BEGIN:VCALENDAR
VERSION:2.0
PRODID:-//Schlagzeugfestival - ECPv6.15.18//NONSGML v1.0//EN
CALSCALE:GREGORIAN
METHOD:PUBLISH
X-WR-CALNAME:Schlagzeugfestival
X-ORIGINAL-URL:https://schlagzeugfestival.at
X-WR-CALDESC:Veranstaltungen für Schlagzeugfestival
REFRESH-INTERVAL;VALUE=DURATION:PT1H
X-Robots-Tag:noindex
X-PUBLISHED-TTL:PT1H
BEGIN:VTIMEZONE
TZID:Europe/Vienna
BEGIN:DAYLIGHT
TZOFFSETFROM:+0100
TZOFFSETTO:+0200
TZNAME:CEST
DTSTART:20220327T010000
END:DAYLIGHT
BEGIN:STANDARD
TZOFFSETFROM:+0200
TZOFFSETTO:+0100
TZNAME:CET
DTSTART:20221030T010000
END:STANDARD
BEGIN:DAYLIGHT
TZOFFSETFROM:+0100
TZOFFSETTO:+0200
TZNAME:CEST
DTSTART:20230326T010000
END:DAYLIGHT
BEGIN:STANDARD
TZOFFSETFROM:+0200
TZOFFSETTO:+0100
TZNAME:CET
DTSTART:20231029T010000
END:STANDARD
BEGIN:DAYLIGHT
TZOFFSETFROM:+0100
TZOFFSETTO:+0200
TZNAME:CEST
DTSTART:20240331T010000
END:DAYLIGHT
BEGIN:STANDARD
TZOFFSETFROM:+0200
TZOFFSETTO:+0100
TZNAME:CET
DTSTART:20241027T010000
END:STANDARD
END:VTIMEZONE
BEGIN:VEVENT
DTSTART;TZID=Europe/Vienna:20230319T160000
DTEND;TZID=Europe/Vienna:20230319T170000
DTSTAMP:20260421T072005
CREATED:20230109T083934Z
LAST-MODIFIED:20230109T084138Z
UID:1647-1679241600-1679245200@schlagzeugfestival.at
SUMMARY:Das Geheimnis der Keltenmaske
DESCRIPTION:von und mit Manfred Baumann | Komponist: Domenico Turi\nMusikalische Begleitung: El Cimarrón Ensemble\nChristina Schorn-Mancinelli (Guitarre)\, Ivan Mancinelli(Percussions) und David Gruber (Flöte)\nBühnenbild: Iris Moosleitner \nKartenreservierung:\nKeltenmuseum Hallein \nWeitere Termine 2023:\n23. April 16:00 Uhr | 24. September 16:00 Uhr | 12. November 16:00 Uhr \nFotos von der Premiere finden Sie auf unserem Blog: \nKeltenmaske
URL:https://schlagzeugfestival.at/events/das-geheimnis-der-keltenmaske-2/
LOCATION:Keltenmuseum\, Pflegerplatz 1\, Hallein\, salzburg\, 5400\, Österreich
CATEGORIES:musiktheater
ATTACH;FMTTYPE=image/jpeg:https://schlagzeugfestival.at/wp-content/uploads/2022/04/keltenmaske_th.jpg
ORGANIZER;CN="Halleiner Schlagwerkstatt":MAILTO:schlagwerkstatt@a1.net
END:VEVENT
END:VCALENDAR