BEGIN:VCALENDAR
VERSION:2.0
PRODID:-//Schlagzeugfestival - ECPv6.15.18//NONSGML v1.0//EN
CALSCALE:GREGORIAN
METHOD:PUBLISH
X-ORIGINAL-URL:https://schlagzeugfestival.at
X-WR-CALDESC:Veranstaltungen für Schlagzeugfestival
REFRESH-INTERVAL;VALUE=DURATION:PT1H
X-Robots-Tag:noindex
X-PUBLISHED-TTL:PT1H
BEGIN:VTIMEZONE
TZID:Europe/Vienna
BEGIN:DAYLIGHT
TZOFFSETFROM:+0100
TZOFFSETTO:+0200
TZNAME:CEST
DTSTART:20220327T010000
END:DAYLIGHT
BEGIN:STANDARD
TZOFFSETFROM:+0200
TZOFFSETTO:+0100
TZNAME:CET
DTSTART:20221030T010000
END:STANDARD
BEGIN:DAYLIGHT
TZOFFSETFROM:+0100
TZOFFSETTO:+0200
TZNAME:CEST
DTSTART:20230326T010000
END:DAYLIGHT
BEGIN:STANDARD
TZOFFSETFROM:+0200
TZOFFSETTO:+0100
TZNAME:CET
DTSTART:20231029T010000
END:STANDARD
BEGIN:DAYLIGHT
TZOFFSETFROM:+0100
TZOFFSETTO:+0200
TZNAME:CEST
DTSTART:20240331T010000
END:DAYLIGHT
BEGIN:STANDARD
TZOFFSETFROM:+0200
TZOFFSETTO:+0100
TZNAME:CET
DTSTART:20241027T010000
END:STANDARD
END:VTIMEZONE
BEGIN:VEVENT
DTSTART;TZID=Europe/Vienna:20230505T170000
DTEND;TZID=Europe/Vienna:20230520T213000
DTSTAMP:20260421T043458
CREATED:20230412T083607Z
LAST-MODIFIED:20230412T083745Z
UID:1749-1683306000-1684618200@schlagzeugfestival.at
SUMMARY:Festivalpass 2023
DESCRIPTION:Der Festivalpass gilt für alle Konzerte des Internationalen Halleiner Schlagzeugfestival 2023 \nFR 5. Mai\n08:50 Uhr\, 10:00 Uhr + 17:00 Uhr\nTrommel mit! mit Giulio Tosatti \nSA 6. Mai\n19:30 Uhr Waikiki\nDrumline \nFR 12. Mai \n19:30 Uhr Sax & Smile \nSA 13. Mai\n19:30 Uhr Duo InContra + Stefano Grasso\ndazu Live-Painting von K. K. Gandhi\nQuartett „Schlagwerk Bande“ \nSO 14. Mai\n10:30 Uhr K. K. Gandhi Malworkshop für Kinder\n10:30 Uhr Matinée mit Jakob Mancinelli und Fabian Johannes Egger \nFR 19. Mai\n19:30 Uhr Thomas Grubinger\, Doro Hanke\, Martin Gasselsberger und Herbert Berger\n„3 Peperoncini“ – 1. Preis bei prima la musica \nSA 20. Mai\n19:30 Uhr Halleiner Kammerorchester\nDirigent: Khac-Uyen Nguyen\nSolisten: Ludwig Albert + Rodrigo Marques \nSchulaufführungen\nMO 8. + DI 9. Mai – 10:00 Uhr Das Geheimnis der Keltenmaske\nDI 16. Mai – 10:00 Uhr + MI 17. Mai – 8:50 Uhr Graf Wenzelslaus \nWettbewerb\n18.-20. Mai\nJury: Ludwig Albert – Royal Conservatoire Antwerp\, Belgien | Ivana Bilic – Zagreb Academy of Music\, Kroatien | Antonio Ceravolo – 1. Paukinist am kroatischen Nationaltheater Rijeka | Thomas Grubinger – Schlagwerklehrer Musikum Salzburg \nWorkshops\n18. – 20. Mai mit Ludwig Albert\, Ivana Bilic und Antonio Ceravolo \nProgrammänderungen vorbehalten.
URL:https://schlagzeugfestival.at/events/festivalpass-2023/
LOCATION:Mittelschule Hallein-Burgfried\, Davisstraße 17\, Hallein\, Salzburg\, 5400\, Österreich
CATEGORIES:festivalpass
ATTACH;FMTTYPE=image/jpeg:https://schlagzeugfestival.at/wp-content/uploads/2023/04/event_titel_23.jpg
ORGANIZER;CN="Halleiner Schlagwerkstatt":MAILTO:schlagwerkstatt@a1.net
END:VEVENT
BEGIN:VEVENT
DTSTART;TZID=Europe/Vienna:20230506T193000
DTEND;TZID=Europe/Vienna:20230506T213000
DTSTAMP:20260421T043458
CREATED:20230412T152232Z
LAST-MODIFIED:20230412T152232Z
UID:1762-1683401400-1683408600@schlagzeugfestival.at
SUMMARY:Waikiki Contemporary Quartett
DESCRIPTION:Waikiki Contemporary Quartett: Davide Merlino\, Alessandro Dell’Aglio\, Andrea Cocco und Davide Broggini featuring Giulio Tosatti. Die vier Mitglieder haben klassische Percussion und Jazz-Schlagzeug an Konservatorien Norditaliens studiert und sich anschließend auf Komposition und Didaktik spezialisiert. \nKonzertauftakt mit MDC-Drumline \nDie „MDC Drumline“ und die „Sticky Beats“ sind zwei etablierte Drumline Ensembles die im In- und Ausland viele Erfolge erzielen konnten. Sie sind bekannt für ihr einzigartiges Talent\, Trommelkunst mit Show Elementen zu verbinden und damit die Zuschauer mitzureißen. Die „MDC Drumline“ konnte unter anderem schon den Europameister Titel bei den IPE Meisterschaften in Belgien erlangen.
URL:https://schlagzeugfestival.at/events/waikiki-contemporary-quartett/
LOCATION:Mittelschule Hallein-Burgfried\, Davisstraße 17\, Hallein\, Salzburg\, 5400\, Österreich
CATEGORIES:konzert
ATTACH;FMTTYPE=image/jpeg:https://schlagzeugfestival.at/wp-content/uploads/2023/04/event_waikiki.jpg
ORGANIZER;CN="Halleiner Schlagwerkstatt":MAILTO:schlagwerkstatt@a1.net
END:VEVENT
END:VCALENDAR