BEGIN:VCALENDAR
VERSION:2.0
PRODID:-//Schlagzeugfestival - ECPv6.15.18//NONSGML v1.0//EN
CALSCALE:GREGORIAN
METHOD:PUBLISH
X-WR-CALNAME:Schlagzeugfestival
X-ORIGINAL-URL:https://schlagzeugfestival.at
X-WR-CALDESC:Veranstaltungen für Schlagzeugfestival
REFRESH-INTERVAL;VALUE=DURATION:PT1H
X-Robots-Tag:noindex
X-PUBLISHED-TTL:PT1H
BEGIN:VTIMEZONE
TZID:Europe/Vienna
BEGIN:DAYLIGHT
TZOFFSETFROM:+0100
TZOFFSETTO:+0200
TZNAME:CEST
DTSTART:20230326T010000
END:DAYLIGHT
BEGIN:STANDARD
TZOFFSETFROM:+0200
TZOFFSETTO:+0100
TZNAME:CET
DTSTART:20231029T010000
END:STANDARD
BEGIN:DAYLIGHT
TZOFFSETFROM:+0100
TZOFFSETTO:+0200
TZNAME:CEST
DTSTART:20240331T010000
END:DAYLIGHT
BEGIN:STANDARD
TZOFFSETFROM:+0200
TZOFFSETTO:+0100
TZNAME:CET
DTSTART:20241027T010000
END:STANDARD
BEGIN:DAYLIGHT
TZOFFSETFROM:+0100
TZOFFSETTO:+0200
TZNAME:CEST
DTSTART:20250330T010000
END:DAYLIGHT
BEGIN:STANDARD
TZOFFSETFROM:+0200
TZOFFSETTO:+0100
TZNAME:CET
DTSTART:20251026T010000
END:STANDARD
END:VTIMEZONE
BEGIN:VEVENT
DTSTART;VALUE=DATE:20240522
DTEND;VALUE=DATE:20240624
DTSTAMP:20260420T080038
CREATED:20240426T082242Z
LAST-MODIFIED:20240602T110053Z
UID:2505-1716336000-1719187199@schlagzeugfestival.at
SUMMARY:Festivalpass 2024
DESCRIPTION:MI 22. Mai\n08:50 Uhr + 10:00 Uhr\nTrommel mit! mit Thomas Grubinger und Bertl Steiner.\nFür Kinder ab 6 Jahren.\nKooperationsveranstaltung mit dem Salzburger Bildungswerk Hallein. \n\nFR   24. Mai \n19:30 Uhr Cuarteto Habana\nKubanische Lebensfreude pur: schwungvoll\, sensibel\, chillig\, tanzbar\, romantisch. Maria Veliz-Delgado\, Porfirio Maure-Disotual\, Michael Brandl\, Bernie Rothauer und Manfred Wambacher. \n+ MDC-Drumline\nHalleiner Schlagzeugensemble  unter der Leitung von Henry Chou \n\nSA   25. Mai \n13:00 Uhr: Umzug durch die Halleiner Altstadt\n16:30 Uhr: Workshop MS Burgfried. Öffentlicher Workshop. Spenden erbeten. Kooperationsveranstaltung mit dem Salzburger Bildungswerk Hallein. \nAb 19:00 Uhr: Lange Nacht der Percussion \n+ A Galera: heiße Rhythmen aus Brasiliens \n+ Jan Bauernberger + Jonas Lackner + Lorenz Neuhuber + Florian Schloßbauer\nKlasse Henry Chou \n+ Vinzent Groen\nKlasse: Bakk.art. Tobi Guttmann. Blues for Gilbert und March (E. Carter) \n+ Duo Xymbal: Fernando Elias & Daniela Canale.\nSüdamerikanische Musik \n+ The Golden Dixie Quartett: Ferdl Schmitzberger\, Hubert Grassl\, Günter Ellmer\, Sigi Siller\nschwungvoller\, virtuoser Swing und Dixieland Melodien sowie Rhythmen der 1920er-1960er Jahre \n\nFR  31. Mai \n19:30 Uhr Magic Percussion\nGenießen Sie das Drum-Spektakel „Best of – 20 Jahre Magic Percussion live & loud“\, mit heißen Sambarhythmen\, klassischen Schlagzeug Highlights\, STOMP\, Body-Percussion und der beliebten Show auf acht Stehleitern. \n\nSA  1. Juni  \n19:30 Uhr Abschluss International Percussion Competition 2024 \n+ Preisverleihung\ndes Internationalen Halleiner Percussion-Wettbewerbs 2024 \n+ Preisträgerkonzert\nDie Gewinner des Wettbewerbs zeigen ihr Können \n+ Konzert der Jury\nIvana Bilić\, Sylvie Reynaert\, Emmanuel Séjourné\, Jakob und Ivan Mancinelli \n\nSO 23. Juni\n10:30 Uhr Halleiner Kammerorchester\nMarimbakonzert von Emmanuel Séjourné\nDirigent: Khac-Uyen Nguyen\nSolist: Tobias Guttmann \n\nWettbewerb\n30. Mai – 1. Juni\nJury: Ivana Bilić\, Sylvie Reynaert\, Emmanuel Séjourné \nMasterclasses\n30. Mai – 1. Juni\nIvana Bilić\, Sylvie Reynaert\, Emmanuel Séjourné \n\nProgrammänderungen vorbehalten.
URL:https://schlagzeugfestival.at/events/festivalpass-2024/
LOCATION:Mittelschule Hallein-Burgfried\, Davisstraße 17\, Hallein\, Salzburg\, 5400\, Österreich
CATEGORIES:festivalpass
ATTACH;FMTTYPE=image/jpeg:https://schlagzeugfestival.at/wp-content/uploads/2024/04/programm_th1500.jpg
ORGANIZER;CN="Halleiner Schlagwerkstatt":MAILTO:schlagwerkstatt@a1.net
END:VEVENT
END:VCALENDAR