BEGIN:VCALENDAR
VERSION:2.0
PRODID:-//Schlagzeugfestival - ECPv6.15.18//NONSGML v1.0//EN
CALSCALE:GREGORIAN
METHOD:PUBLISH
X-WR-CALNAME:Schlagzeugfestival
X-ORIGINAL-URL:https://schlagzeugfestival.at
X-WR-CALDESC:Veranstaltungen für Schlagzeugfestival
REFRESH-INTERVAL;VALUE=DURATION:PT1H
X-Robots-Tag:noindex
X-PUBLISHED-TTL:PT1H
BEGIN:VTIMEZONE
TZID:Europe/Vienna
BEGIN:DAYLIGHT
TZOFFSETFROM:+0100
TZOFFSETTO:+0200
TZNAME:CEST
DTSTART:20230326T010000
END:DAYLIGHT
BEGIN:STANDARD
TZOFFSETFROM:+0200
TZOFFSETTO:+0100
TZNAME:CET
DTSTART:20231029T010000
END:STANDARD
BEGIN:DAYLIGHT
TZOFFSETFROM:+0100
TZOFFSETTO:+0200
TZNAME:CEST
DTSTART:20240331T010000
END:DAYLIGHT
BEGIN:STANDARD
TZOFFSETFROM:+0200
TZOFFSETTO:+0100
TZNAME:CET
DTSTART:20241027T010000
END:STANDARD
BEGIN:DAYLIGHT
TZOFFSETFROM:+0100
TZOFFSETTO:+0200
TZNAME:CEST
DTSTART:20250330T010000
END:DAYLIGHT
BEGIN:STANDARD
TZOFFSETFROM:+0200
TZOFFSETTO:+0100
TZNAME:CET
DTSTART:20251026T010000
END:STANDARD
END:VTIMEZONE
BEGIN:VEVENT
DTSTART;TZID=Europe/Vienna:20241221T193000
DTEND;TZID=Europe/Vienna:20241221T210000
DTSTAMP:20260419T234657
CREATED:20241121T160452Z
LAST-MODIFIED:20241213T073054Z
UID:2817-1734809400-1734814800@schlagzeugfestival.at
SUMMARY:KlezFive
DESCRIPTION:MS Hallein Burgfried | Davisstraße 17 | Hallein \nFacettenreicher Streifzug\ndurch die jüdische Kultur\nAuf den Flügeln jiddischer Lieder voll von Poesie\, Witz und Melancholie\, befeuert von virtuosem Klezmer. Schon taucht man ein in die gefühlsbetonte\, intime und dann wieder vor Lebensfreude überquellende Welt der jiddischen Musik. Ein Spiegel jüdischen Lebens\, Feierns und Trauerns.  \n„KlezFive“ sind leidenschaftliche und versierte Musiker. Mit außergewöhnlichen Arrangements schafft die Formation kraftvolle und emotionsgeladene Interpretationen auf höchstem virtuosem Niveau. Ein lebendiges Wechselspiel zwischen Tradition und Neuinterpretation. Ausdrucksstarke Melodien gleichsam zum Weinen und zum Lachen.\nErgreifend\, unvorhersehbar\, tief melancholisch\, sinnlich\, etwas verrückt … wie das Leben so spielt.\n\nRegina Hopfgartner\, Gesang\nGeorg Winkler\, Klarinetten\nHubert Kellerer\, Akkordeon\nPeter Aradi\, Kontrabass\nFlorian Müller\, Schlagzeug\n\n 
URL:https://schlagzeugfestival.at/events/klezfive/
LOCATION:Mittelschule Hallein-Burgfried\, Davisstraße 17\, Hallein\, Salzburg\, 5400\, Österreich
CATEGORIES:konzert
ATTACH;FMTTYPE=image/jpeg:https://schlagzeugfestival.at/wp-content/uploads/2024/11/KlezFive-2th.jpg
ORGANIZER;CN="Halleiner Schlagwerkstatt":MAILTO:schlagwerkstatt@a1.net
END:VEVENT
END:VCALENDAR