BEGIN:VCALENDAR
VERSION:2.0
PRODID:-//Schlagzeugfestival - ECPv6.15.18//NONSGML v1.0//EN
CALSCALE:GREGORIAN
METHOD:PUBLISH
X-WR-CALNAME:Schlagzeugfestival
X-ORIGINAL-URL:https://schlagzeugfestival.at
X-WR-CALDESC:Veranstaltungen für Schlagzeugfestival
REFRESH-INTERVAL;VALUE=DURATION:PT1H
X-Robots-Tag:noindex
X-PUBLISHED-TTL:PT1H
BEGIN:VTIMEZONE
TZID:Europe/Vienna
BEGIN:DAYLIGHT
TZOFFSETFROM:+0100
TZOFFSETTO:+0200
TZNAME:CEST
DTSTART:20240331T010000
END:DAYLIGHT
BEGIN:STANDARD
TZOFFSETFROM:+0200
TZOFFSETTO:+0100
TZNAME:CET
DTSTART:20241027T010000
END:STANDARD
BEGIN:DAYLIGHT
TZOFFSETFROM:+0100
TZOFFSETTO:+0200
TZNAME:CEST
DTSTART:20250330T010000
END:DAYLIGHT
BEGIN:STANDARD
TZOFFSETFROM:+0200
TZOFFSETTO:+0100
TZNAME:CET
DTSTART:20251026T010000
END:STANDARD
BEGIN:DAYLIGHT
TZOFFSETFROM:+0100
TZOFFSETTO:+0200
TZNAME:CEST
DTSTART:20260329T010000
END:DAYLIGHT
BEGIN:STANDARD
TZOFFSETFROM:+0200
TZOFFSETTO:+0100
TZNAME:CET
DTSTART:20261025T010000
END:STANDARD
END:VTIMEZONE
BEGIN:VEVENT
DTSTART;TZID=Europe/Vienna:20250426T193000
DTEND;TZID=Europe/Vienna:20250524T210000
DTSTAMP:20260419T170620
CREATED:20250314T094558Z
LAST-MODIFIED:20250523T120049Z
UID:3208-1745695800-1748120400@schlagzeugfestival.at
SUMMARY:Festivalpass
DESCRIPTION:Tickets kaufen \nHalleiner Schlagzeugfestival 26. April bis 24. Mai 2025 \nEintritt: € 37\,– | € 28\,– | € 17\,– gültig für folgende Konzerte: \n\nSA 26. April 2025 | 19:30 Uhr \nShiki Percussion Duo: Ayami Okamura und Dan deSimone\n+ MDC-Drumline unter der Leitung von Henry Chou\, Musikum Hallein. \n\nFR 2. Mai 2025 | 19:30 Uhr  \nGuirimbadu: Eudoro Grade – Gitarre\, Vasco Ramalho – Marimba und Percussion \n\nSA 3. Mai 2025 | 19:30 Uhr \nDavid Friedman Generations Trio: David Friedman – Vibrafon (USA)\, Josh Ginsburg – Bass (USA)\, Tilo Weber – Drums (DE) \n\nSA 10. Mai 2025 | 19:30 Uhr  \nDrumming Zajc: Antonio Ceravolo und Pedro Rosenthal Campuzano\n+ Jan Bauernberger\, Björn Bohuny\, Matthias Brandstätter\, Lorenz Neuhuber und Christian Schöller – Schüler von Heny Chou \n\nSA 24. Mai 2025 | 19:30 Uhr \nOrchestra Arcangelo Corelli: Jacopo Rivani – Dirigent\, Camilla Patria – Violoncello\, Ivan Mancinelli – Percussion
URL:https://schlagzeugfestival.at/events/festivalpass/
LOCATION:Mittelschule Hallein-Burgfried\, Davisstraße 17\, Hallein\, Salzburg\, 5400\, Österreich
CATEGORIES:festivalpass
ATTACH;FMTTYPE=image/jpeg:https://schlagzeugfestival.at/wp-content/uploads/festivalpass_th-1.jpg
ORGANIZER;CN="Halleiner Schlagwerkstatt":MAILTO:schlagwerkstatt@a1.net
END:VEVENT
BEGIN:VEVENT
DTSTART;TZID=Europe/Vienna:20250503T193000
DTEND;TZID=Europe/Vienna:20250503T210000
DTSTAMP:20260419T170620
CREATED:20250313T134421Z
LAST-MODIFIED:20250501T121446Z
UID:3193-1746300600-1746306000@schlagzeugfestival.at
SUMMARY:David Friedman Generations Trio
DESCRIPTION:David Friedman Generations Trio: David Friedman – Vibrafon (USA)\, Josh Ginsburg – Bass (USA)\, Tilo Weber – Drums (DE) \nEintritt: € 17\,– | € 11\,–\nTickets kaufen \nHörprobe: https://youtu.be/_dHApegm2-8?si=p_bbekgVe15ZoNWG | https://youtu.be/fUcInwtkCLM?si=50oY1uYVotYlJxC4 \n\nDie lebende Jazzlegende David Friedman ist einer der einflussreichsten Vibraphonisten in der Geschichte des Instruments. Er hat mit so unterschiedlichen Musikerpersönlichkeiten wie Leonard Bernstein\, Luciano Berio\, Bobby McFerrin\, Wayne Shorter und Yoko Ono zusammengearbeitet – nur wenige Jazzmusiker können ein so breites Spektrum an Bühnen- und Aufnahmeerfahrungen vorweisen. Die Liste ist damit nicht zu Ende. Friedman war live oder auf Aufnahmen u.a. mit Joe Henderson\, Horace Silver\, Johnny Griffin\, Hubert Laws\, Jane Ira Bloom\, Ron Carter und John Scofield zu hören. Mit seinem “Generations Trio” interpretiert er nun ungewöhnlich frische Arrangements von bekannten Jazzstandards und neue Eigenkompositionen von Friedman runden das Programm ab. In diesem Trio versucht sich der legendäre Vibraphonist nicht etwa im musikalischen Neustart mit zwei jungen Musikern – vielmehr ergänzen sich hier drei unterschiedliche Musikerpersönlichkeiten zu einer Einheit\, die pulsierend und symbiotisch zugleich ist. Diese Band schafft die ungewöhnliche Verbindung von traditionsreichen Jazzstandards des Great American Songbooks mit den freien Improvisationen und dem neuen Sound des zeitgenössischen Jazz. Zusammen entwickeln sie einen erstaunlich orchestralen Bandsound\, der frisch und hip ist und doch fest in der tiefen Tradition des Jazz verwurzelt ist. \nDer Bassist Josh Ginsburg ist ein regelmäßiger Bestandteil der internationalen Konzertbühnen und Jazzclubs. Seine Musik wird als „energisch frisch“ (Irish Times) und „sich in sich allmählich entfaltenden Schichten offenbarend” (JazzTimes) beschrieben; sein jüngstes Album als Leader\, „Zembla Variations“\, wurde von der New York City Jazz Record zum Album des Jahres gewählt. Joshs Bassspiel\, schreibt die Financial Times (London)\, ist „ein Fels aus Kontrapunkt\, Funk und Swing“. In den letzten Jahren tourte Josh mit Bands unter der Leitung von Kurt Rosenwinkel\, Jeremy Pelt\, George Colligan\, Logan Richardson\, Aruán Ortiz und Helen Sung (u.a.). Als New Yorker Musiker der ersten Wahl trat er mit unzähligen einflussreichen Musikern wie Tom Harrell\, Mulgrew Miller\, Mark Turner\, Robert Glasper\, Jeff „Tain“ Watts\, Gregory Hutchinson\, Ambrose Akinmusire und Aaron Parks auf. \nAls aktiver Bestandteil der Jazzszene Berlin vereint Tilo Weber Improvisation mit Komposition und bewegt sich damit in der Freien Musik ebenso wie in der Indie Pop Szene. Zusammenarbeiten mit Greg Cohen\, Peter Brötzmann\, Rudi Mahall\, Chris Dahlgren\, Tobias Siebert und der NDR Bigband führen ihn regelmäßig zu nationalen (u.a. JazzBaltica Festival) und internationalen Festivals zahlreicher Genres.\nWeber komponiert und trommelt für sein akustisches Quartett “Four Fauns” und sein elektronisches Trio Animate Repose. Als Kollektivmitglied und Sideman spielt er mit und komponiert/arrangiert für das David Friedman Generations Trio und das David Friedman Generations Quartet\, das Clara Haberkamp Trio und Y-Otis. Außerdem spielt er in der Livebestzung der Popband And The Golden Choir. 2017 gründete Tilo Weber mit David Friedman das Independent Label MALLETMUSE RECORDS.
URL:https://schlagzeugfestival.at/events/david-friedman-generations-trio/
LOCATION:Mittelschule Hallein-Burgfried\, Davisstraße 17\, Hallein\, Salzburg\, 5400\, Österreich
CATEGORIES:konzert
ATTACH;FMTTYPE=image/jpeg:https://schlagzeugfestival.at/wp-content/uploads/friedmann_th.jpg
ORGANIZER;CN="Halleiner Schlagwerkstatt":MAILTO:schlagwerkstatt@a1.net
END:VEVENT
END:VCALENDAR