BEGIN:VCALENDAR
VERSION:2.0
PRODID:-//Schlagzeugfestival - ECPv6.15.20//NONSGML v1.0//EN
CALSCALE:GREGORIAN
METHOD:PUBLISH
X-WR-CALNAME:Schlagzeugfestival
X-ORIGINAL-URL:https://schlagzeugfestival.at
X-WR-CALDESC:Veranstaltungen für Schlagzeugfestival
REFRESH-INTERVAL;VALUE=DURATION:PT1H
X-Robots-Tag:noindex
X-PUBLISHED-TTL:PT1H
BEGIN:VTIMEZONE
TZID:Europe/Vienna
BEGIN:DAYLIGHT
TZOFFSETFROM:+0100
TZOFFSETTO:+0200
TZNAME:CEST
DTSTART:20250330T010000
END:DAYLIGHT
BEGIN:STANDARD
TZOFFSETFROM:+0200
TZOFFSETTO:+0100
TZNAME:CET
DTSTART:20251026T010000
END:STANDARD
BEGIN:DAYLIGHT
TZOFFSETFROM:+0100
TZOFFSETTO:+0200
TZNAME:CEST
DTSTART:20260329T010000
END:DAYLIGHT
BEGIN:STANDARD
TZOFFSETFROM:+0200
TZOFFSETTO:+0100
TZNAME:CET
DTSTART:20261025T010000
END:STANDARD
BEGIN:DAYLIGHT
TZOFFSETFROM:+0100
TZOFFSETTO:+0200
TZNAME:CEST
DTSTART:20270328T010000
END:DAYLIGHT
BEGIN:STANDARD
TZOFFSETFROM:+0200
TZOFFSETTO:+0100
TZNAME:CET
DTSTART:20271031T010000
END:STANDARD
END:VTIMEZONE
BEGIN:VEVENT
DTSTART;TZID=Europe/Vienna:20260409T083000
DTEND;TZID=Europe/Vienna:20260503T140000
DTSTAMP:20260424T014722
CREATED:20260302T132501Z
LAST-MODIFIED:20260322T174326Z
UID:4122-1775723400-1777816800@schlagzeugfestival.at
SUMMARY:Festivalpass 2026
DESCRIPTION:Gilt für alle Veranstaltungen des Internationalen Halleiner Schlagzeugfestival 2026
URL:https://schlagzeugfestival.at/events/festivalpass-2026/
LOCATION:Festsaal Burgfried\, Davisstraße 17\, Hallein\, Salzburg\, 5400\, Austria
CATEGORIES:festivalpass
ATTACH;FMTTYPE=image/jpeg:https://schlagzeugfestival.at/wp-content/uploads/SM_8000.jpg
ORGANIZER;CN="Halleiner Schlagwerkstatt":MAILTO:schlagwerkstatt@a1.net
END:VEVENT
BEGIN:VEVENT
DTSTART;TZID=Europe/Vienna:20260424T193000
DTEND;TZID=Europe/Vienna:20260424T210000
DTSTAMP:20260424T014722
CREATED:20260302T130350Z
LAST-MODIFIED:20260326T093435Z
UID:4114-1777059000-1777064400@schlagzeugfestival.at
SUMMARY:Tiroler Landes Percussion Ensemble
DESCRIPTION:ist das erste Landesweite Percussion Ensemble in Tirol und zudem eines der ersten flächendeckenden Landes Percussion Ensembles Österreichs.\n​Diese Initiative präsentiert die herausragendsten Tiroler Percussion Nachwuchstalente\, im Rahmen von öffentlichen Auftritten\, und bietet ihnen eine Plattform\, sich präsentieren zu können.\nBeim Percussion Festival in Hallein wird sich das TLPE mit dem Schlagwerk Nachwuchstalent Tamo Popper präsentieren.\nGemeinsam werden sie romantische und zugleich virtuose Werke von John Thrower\, Keiko Abe\, Takatsugu Muramatsu und vielen mehr\, aus ihrem Repertoire\, vorstellen.\nElisabeth Reheis – Sopran\nFabian Kluckner – Marimba I Percussion\nStefan Juen – Marimba I Percussion\nTamo Popper – Marimba I Vibraphon I Percussion \nProgrammauftakt: Schüler von Henry Chou | Musikum Hallein
URL:https://schlagzeugfestival.at/events/tiroler-landes-percussion-ensemble/
LOCATION:Festsaal Burgfried\, Davisstraße 17\, Hallein\, Salzburg\, 5400\, Austria
CATEGORIES:konzert
ATTACH;FMTTYPE=image/jpeg:https://schlagzeugfestival.at/wp-content/uploads/SM_8005n.jpg
ORGANIZER;CN="Halleiner Schlagwerkstatt":MAILTO:schlagwerkstatt@a1.net
END:VEVENT
END:VCALENDAR